Workbook

Sheet PL
C1: UWA STUDENT GUILD
C2: STATEMENT OF SOURCES AND APPLICATIONS OF FUNDS
C3: 2025 ANNUAL Budget Review
C5: Divisions | D5: 2025 Full Year | E5: 2024 Full Year | F5: 2024 | G5: 2023 Full Year | H5: 2023 | I5: 2022 Full Year | J5: 2022 | K5: 2021 Full Year | L5: 2021 | M5: 2020 Full Year | N5: 2020 | O5: 2019 Full Year | P5: 2019
A6: GL Code | D6: Budget | E6: Actual Forecast | F6: Budget | G6: Budget | H6: Actual | I6: Budget | J6: Actual | K6: Budget | L6: Actual | M6: Budget | N6: Actual | O6: Budget | P6: Actual
C7: MEMBERSHIP REVENUE
A8: 103034 - SSAF | B8: INVESTMENTS | C8: SSAF | D8: =VLOOKUP(A8,INV!A:N,14,FALSE) -> 4000000 | E8: 3750000 | F8: 3549600 | G8: 3200000 | H8: 3727064 | I8: 2880000 | J8: 3171103 | K8: 2784000 | L8: 2946622 | M8: 2738159.4 | N8: 2790912 | O8: 2684470 | P8: 2819653
A9: 103035 - Associate Membership Fee | B9: INVESTMENTS
A10: 305102 - Bank Charges | B10: INVESTMENTS
A11: 305083 - Advertising & Promotion | B11: INVESTMENTS
A12: 103035 - Associate Membership Fee | B12: INVESTMENTS | C12: Associate Membership | D12: =VLOOKUP(A12,INV!A:N,14,FALSE) -> 3000 | E12: 1636.38 | F12: 3000 | G12: 3000 | H12: 3621 | I12: 3000 | J12: 1909.11 | K12: 9500 | L12: 1722 | M12: 9500 | N12: 3311 | O12: 9500 | P12: =-92.07+6417.54 -> 6325.47
C13: COMMERCIAL | R13: 100k
A14: Net Profit/(Loss) | B14: PROPERTY SERVICES | C14: Property | D14: =VLOOKUP(A14,'CS PROP'!A:N,14,FALSE) -> -22789.341 | E14: 2656.98 | F14: -10427.719 | G14: 11249.058 | H14: 40053 | I14: 42722.443 | J14: 37604 | K14: 20695.68 | L14: 3297.25 | M14: 101014.27 | N14: -142348 | O14: 143262.38 | P14: 248643.25 | R14: 60k
A15: Net Profit/(Loss) | B15: PROPERTY CATERING | C15: Catering Property | D15: =VLOOKUP(A15,'CAT PROP'!A:N,14,FALSE) -> 122510.27 | E15: 175319.78 | F15: 160902.86 | G15: 100381.23 | H15: -31462 | I15: 241064.73 | J15: 57589 | K15: 178233.5 | L15: 245937 | M15: 240557.58 | N15: 213078 | O15: 195658.13 | P15: 169095.37
A16: Net Profit/(Loss) | B16: SECOND HAND BOOKSHOP | C16: Guild Bookshop | D16: 0 | E16: 0 | F16: 0 | G16: 31616.384 | H16: 0 | I16: 56308.805 | J16: -48449.02 | K16: 40023.949 | L16: 40073 | M16: 4593.8263 | N16: 20232 | O16: 1693.8116 | P16: 1762 | AK16: UWA merchandise | AQ16: 2015 data
C17: Functions | D17: ='CAT OUT'!G11 -> 71316.694 | E17: 77607.67 | F17: 59492
A18: Net Profit/(Loss) | C18: Tavern | D18: =VLOOKUP(A18,TAV!A:N,14,FALSE) -> 63838.976 | E18: -30195.97 | F18: 57209.935 | G18: 39440.408 | H18: 6300 | I18: 30634.415 | J18: -51652 | K18: 15234.415 | L18: -9676 | M18: 23161.707 | N18: 56479 | O18: 39628.05 | P18: -18104.42 | AE18: p12 2016 | AG18: p10 2015
A19: Net Profit/(Loss) | B19: OUTLETS | C19: All other outlets | E19: -306326.28
A20: Net Profit/(Loss) | B20: CATERING ADMIN | C20: Catering Admin | E20: 77607.67
A21: Total | C21: Catering (consolidated) | D21: ='CAT OUT'!G13-D17 -> 69024.794 | E21: -56541.4 | F21: =78510-F17 -> 19018 | G21: 18781.02 | H21: =28587-H18 -> 22287 | I21: 31169.458 | J21: =-86900.48-J18 -> -35248.48 | K21: 22990.512 | L21: =-253229.13+204643-L18 -> -38910.13 | M21: 77507.032 | N21: 241096 | O21: -67052.802 | P21: =547165.14-498152.97-P18 -> 67116.59 | R21: 100k | AD21: Loc no Dep | AE21: -31436.6 | AF21: 60100.1 | AG21: -459.93 | AH21: 95145.79 | AI21: 605286.22 | AJ21: 474479.37 | AQ21: NO DEPT | AR21: 529663.01 | AS21: =AR21-AR35 -> 268640.86
C22: Total Operating Income | D22: =D21+D18+D16+D15+D14+D12+D8+D17 -> 4306901.4 | E22: =E21+E18+E16+E15+E14+E12+E8+E17 -> 3920483.4 | F22: =F21+F18+F16+F15+F14+F12+F8+F17 -> 3838795.1 | G22: =G21+G18+G16+G15+G14+G12+G8 -> 3404468.1 | H22: =H21+H18+H16+H15+H14+H12+H8+H17 -> 3767863 | I22: =I21+I18+I16+I15+I14+I12+I8 -> 3284899.9 | J22: =J21+J18+J16+J15+J14+J12+J8 -> 3132855.6 | K22: =K21+K18+K16+K15+K14+K12+K8 -> 3070678.1 | L22: =L21+L18+L16+L15+L14+L12+L8 -> 3189065.1 | M22: =M21+M18+M16+M15+M14+M12+M8 -> 3194493.8 | N22: =N21+N18+N16+N15+N14+N12+N8 -> 3182760 | O22: =O21+O18+O16+O15+O14+O12+O8 -> 3007159.6 | P22: =SUM(P8:P21) -> 3294491.2 | AD22: tav | AE22: 32342.66 | AF22: -14972.93 | AG22: -20257.24 | AH22: 9770.72 | AI22: 65698.82 | AJ22: -74594.3 | AQ22: NO LOC | AR22: 29306.57
C23: PRESIDENTIAL | AD23: cat admin | AE23: -20786.6 | AF23: -8866.34 | AG23: -13622.28 | AH23: -95109.66 | AI23: -88663.4 | AJ23: -189432.84 | AQ23: Cat Adm | AR23: -270194.02
A24: Net Profit/(Loss) | B24: PRESIDENTIAL OFFICE | C24: President | D24: =VLOOKUP(A24,PRES!A:N,14,FALSE) -> -100157.54 | E24: -61258.66 | F24: -83577.667 | G24: -64749.384 | H24: -61329 | I24: -62394.102 | J24: -51243 | K24: -61294.56 | L24: -52013 | M24: -56967.051 | N24: -23096.35 | O24: -62515.066 | P24: -57024.04 | R24: =#REF!-D24 -> #REF! | AE24: =SUM(AE21:AE23) -> -19880.54 | AF24: =SUM(AF21:AF23) -> 36260.83 | AG24: =SUM(AG21:AG23) -> -34339.45 | AH24: =SUM(AH21:AH23) -> 9806.85 | AI24: =SUM(AI21:AI23) -> 582321.64 | AJ24: =SUM(AJ21:AJ23) -> 210452.23 | AO24: grant income - Lion Nthan | AQ24: DENT | AR24: 17932.96
A25: Net Profit/(Loss) | B25: GUILD COUNCIL | C25: Guild Council: Excl. Elections | D25: =VLOOKUP(A25,GC!A:N,14,FALSE)-D26 -> -455553.33 | E25: -407013.37 | F25: -385576.3 | G25: -366572.68 | H25: =-415973-H26 -> -353081 | I25: -444041.37 | J25: =-512678-J26 -> -451918 | K25: -396986.08 | L25: =-441797-L26 -> -390307 | M25: -307319.61 | N25: -329239.19 | O25: -293133.83 | P25: =-419543.89-P26 -> -353334.25 | R25: =#REF!-D25 -> #REF! | AO25: affiliation exp | AQ25: FN | AR25: 243975.19
A26: 305129 - Election & Referenda Expenses | B26: GUILD COUNCIL | C26: Elections and Referanda | D26: =-VLOOKUP(A26,GC!A:N,14,FALSE) -> -62000 | E26: -69314.49 | F26: -65000 | G26: -62000 | H26: -62892 | I26: -60000 | J26: -60760 | K26: -62000 | L26: -51490 | M26: -60700 | N26: -48947.22 | O26: -60700 | P26: -66209.64 | R26: =#REF!-D26 -> #REF!
A27: Net Profit/(Loss) | B27: PELICAN | C27: Pelican | D27: =VLOOKUP(A27,PEL!A:N,14,FALSE) -> -49458.526 | E27: -54021.27 | F27: -47567.721 | G27: -44779.749 | H27: -48695 | I27: -46263.83 | J27: -41311 | K27: -48610.17 | L27: -44785 | M27: -44262.289 | N27: -40062.19 | O27: -50781.157 | P27: -58511.3 | R27: =#REF!-D27 -> #REF!
C28: GUILD DEPARTMENTS | AQ28: KIT | AR28: -80931
A29: Net Profit/(Loss) | B29: ENVIRONMENT | C29: Access | D29: =VLOOKUP(A29,ACCESS!A:N,14,FALSE) -> -3764 | E29: -2604.34 | F29: -3732 | G29: -4040 | H29: -2635 | I29: -3802.8 | J29: -1337 | K29: -4248.36 | L29: -2735 | M29: -775 | N29: -1567 | O29: -775 | P29: -1261.26 | R29: =#REF!-D29 -> #REF! | AQ29: ned | AR29: -43021
A30: Net Profit/(Loss) | B30: International Student Services | C30: Albany | D30: =VLOOKUP(A30,ALBANY!A:N,14,FALSE) -> -2096 | E30: -1127.49 | F30: -2113 | G30: -2248.8 | H30: -1145 | I30: -16616.44 | J30: -14209 | K30: -18296.92 | L30: -12673 | M30: -12000 | N30: -14367 | O30: -12150 | P30: -14523.46 | R30: =#REF!-D30 -> #REF! | AQ30: REFECT | AR30: -158348
A31: Net Profit/(Loss) | B31: POST-GRADUATE STUDENTS ASSOC | C31: Education Council | D31: =VLOOKUP(A31,EDU!A:N,14,FALSE) -> -67098 | E31: -62618.55 | F31: -64146 | G31: -64276 | H31: -60834 | I31: -105327.23 | J31: -83863 | K31: -107936.8 | L31: -92878 | M31: -88772.289 | N31: -61646 | O31: -92514.13 | P31: -83515.45 | R31: =#REF!-D31 -> #REF! | AO31: awards & prizes | AQ31: REFRES | AR31: 4603
A32: Net Profit/(Loss) | B32: Pride | C32: Environment | D32: =VLOOKUP($A$29,ENV!A:N,14,FALSE) -> -4588 | E32: -3219.11 | F32: -5000 | G32: -3136 | H32: -757 | I32: -8066.84 | J32: -7488 | K32: -8066.84 | L32: -6449 | M32: -5130 | N32: -4775 | O32: -6130 | P32: -3572.08 | R32: =#REF!-D32 -> #REF! | AE32: P12 15 | AQ32: REID | AR32: 221511
A33: Net Profit/(Loss) | B33: =+'[1]YTD Budget'!AH6 -> #REF! | C33: Ethnocultural | D33: =VLOOKUP(A33,ETHNO!A:N,14,FALSE) -> -3113.5 | E33: -1249.78 | F33: -2253.75 | G33: -2172 | H33: -378 | I33: -11663 | J33: -8024 | K33: -13513 | L33: -5622.01 | M33: -15713 | N33: -8905 | O33: -14013 | P33: -6594.74 | R33: =#REF!-D33 -> #REF! | AE33: 13960 | AQ33: SLC | AR33: 62467
A34: Net Profit/(Loss) | B34: MATURE AGE STUDENTS ASSOCIATION | C34: International Students' Department | D34: =VLOOKUP($A$30,ISS!A:N,14,FALSE) -> -16722.44 | E34: -6457.45 | F34: -14930.44 | G34: -15089.44 | H34: -10624 | I34: -1788.08 | J34: -849 | K34: -1873.36 | L34: -1335 | M34: -1500 | N34: -103 | O34: -1200 | P34: -1901.43 | R34: =#REF!-D34 -> #REF! | AQ34: SOM | AR34: -7167
A35: Net Profit/(Loss) | B35: WASAC | C35: MASA | D35: =VLOOKUP(A35,MASA!A:N,14,FALSE) -> -608 | E35: -55 | F35: -660 | G35: -761 | H35: -4 | I35: -7063.08 | J35: -305 | K35: -10073.36 | L35: -3659 | M35: -9802 | N35: -1885 | O35: -9802 | P35: -1140.91 | R35: =#REF!-D35 -> #REF! | AR35: =SUM(AR24:AR34) -> 261022.15
A36: Net Profit/(Loss) | B36: ALBANY STUDENTS | C36: Postgraduates Student Association | D36: =VLOOKUP(A36,PSA!A:N,14,FALSE) -> -119033.53 | E36: -109306.53 | F36: -105751.32 | G36: -105298.31 | H36: -101632 | I36: -3345.6 | J36: -559 | K36: -3843.36 | L36: -386 | M36: -3350 | N36: -2603 | O36: -3450 | P36: -2415.88 | R36: =#REF!-D36 -> #REF! | AR36: =#REF! -> #REF! | AS36: TAV
A37: Net Profit/(Loss) | B37: WELFARE | C37: Pride | D37: =VLOOKUP(A37,PRIDE!A:N,14,FALSE) -> -4619 | E37: -4475.96 | F37: -4406 | G37: -6354 | H37: -6316 | I37: -5440.4 | J37: -4329 | K37: -6640.4 | L37: -3273 | M37: -7300 | N37: -3573 | O37: -9700 | P37: -6013.65 | R37: =#REF!-D37 -> #REF! | AE37: -60497.18 | AG37: CO NO LOC | AH37: -73749.53 | AR37: 389834.22
A38: Net Profit/(Loss) | B38: RESIDENTIAL COLLEGE DEPARTMENT | C38: Public Affairs Council | D38: =VLOOKUP(A38,PAC!A:N,14,FALSE) -> -8322 | E38: -5139.32 | F38: -9402 | G38: -9402 | H38: -7436 | I38: -9197.08 | J38: -18712 | K38: -9197.084 | L38: -27261 | M38: -10320 | N38: -9095 | O38: -13120 | P38: -4091.01 | R38: =#REF!-D38 -> #REF! | AE38: -13252.35 | AF38: TAV | AH38: =AH37-AE38 -> -60497.18 | AO38: Income from ball came in May, budgetted in April
A39: Net Profit/(Loss) | B39: ACCESS DEPARTMENT | C39: Residential Students' Department | D39: =VLOOKUP(A39,RSD!A:N,14,FALSE) -> -10594 | E39: -14196.56 | F39: -9686 | G39: -9186 | H39: -1878 | I39: -4130.2 | J39: -3080 | K39: -4570.2 | L39: -2622 | M39: -4720 | N39: -1193 | O39: -5300 | P39: -1044.74 | R39: =#REF!-D39 -> #REF!
A40: Net Profit/(Loss) | B40: PUBLIC AFFAIRS | C40: Societies Council | D40: =VLOOKUP(A40,SOC!A:N,14,FALSE)-D41 -> -27113.5 | E40: 17310.88 | F40: -11510.5 | G40: -11062 | H40: =-139045-H39 -> -137167 | I40: -10416.92 | J40: -4710 | K40: -12116.92 | L40: -9644 | M40: -12560 | N40: -11301 | O40: -12560 | P40: -7788.04 | R40: =#REF!-D40 -> #REF!
A41: 305049 - SOC Grants | B41: International Student Services | C41: Club Grants | D41: =-VLOOKUP(A41,SOC!A:N,14,FALSE) -> -140000 | E41: -155000 | F41: -140000 | G41: -137000 | H41: -128435 | I41: -2753.36 | J41: -1682 | K41: -2153.36 | L41: -1019 | M41: 0 | N41: -1060 | O41: 0 | P41: 0 | R41: =#REF!-D41 -> #REF!
...

Sheet INV
A1: Guild of Undergraduates
A2: Budget Profit and Loss
A3: FY 2025
A4: CORPORATE SERVICES: INVESTMENTS
A6: Financial Row | B6: 45658 | C6: 45689 | D6: 45717 | E6: 45748 | F6: 45778 | G6: 45809 | H6: 45839 | I6: 45870 | J6: 45901 | K6: 45931 | L6: 45962 | M6: 45992 | N6: FY | O6: Actual | P6: Mid Year
B7: Amount | C7: Amount | D7: Amount | E7: Amount | F7: Amount | G7: Amount | H7: Amount | I7: Amount | J7: Amount | K7: Amount | L7: Amount | M7: Amount | N7: Budget | O7: Jan - May | P7: Budget
A8: Gross Profit | B8: =0-0 -> 0 | C8: =0-0 -> 0 | D8: =0-0 -> 0 | E8: =0-0 -> 0 | F8: =0-0 -> 0 | G8: =0-0 -> 0 | H8: =0-0 -> 0 | I8: =0-0 -> 0 | ... P8: =0-0 -> 0
A9: Expenses
A10: ADMINISTRATIVE EXPENSES - ADMINISTRATIVE EXPENSES
A11: 305102 - Bank Charges | B11: 0 | C11: 0 | D11: 0 | E11: 0 | F11: 0 | G11: 0 | H11: 0 | I11: 0 | J11: 0 | K11: 0 | L11: 0 | M11: 0 | N11: =SUM(B11:M11) -> 0 | O11: =SUM(C11:N11) -> 0 | P11: =SUM(D11:O11) -> 0
A12: Total - ADMINISTRATIVE EXPENSES - ADMINISTRATIVE EXPENSES | B12: =SUM(B11) -> 0 | C12: =SUM(C11) -> 0 | D12: =SUM(D11) -> 0 | E12: =SUM(E11) -> 0 | F12: =SUM(F11) -> 0 | G12: =SUM(G11) -> 0 | H12: =SUM(H11) -> 0 | I12: =SUM(I11) -> 0 | ... P12: =SUM(P11) -> 0
A13: Total - Expenses | B13: =SUM(B12) -> 0 | C13: =SUM(C12) -> 0 | D13: =SUM(D12) -> 0 | E13: =SUM(E12) -> 0 | F13: =SUM(F12) -> 0 | G13: =SUM(G12) -> 0 | H13: =SUM(H12) -> 0 | I13: =SUM(I12) -> 0 | ... P13: =SUM(P12) -> 0
A14: Operating Profit | B14: =B8-B13 -> 0 | C14: =C8-C13 -> 0 | D14: =D8-D13 -> 0 | E14: =E8-E13 -> 0 | F14: =F8-F13 -> 0 | G14: =G8-G13 -> 0 | H14: =H8-H13 -> 0 | I14: =I8-I13 -> 0 | ... P14: =P8-P13 -> 0
A15: Other Income
A16: FINANCE INCOME - FINANCE INCOME
A17: 103046 - Interest Income from UWA Pools | B17: 23000 | C17: =B17 -> 23000 | D17: =C17 -> 23000 | E17: =D17 -> 23000 | F17: =E17 -> 23000 | G17: =F17 -> 23000 | H17: =G17 -> 23000 | I17: =H17 -> 23000 | J17: =I17 -> 23000 | ... M17: =L17 -> 23000 | N17: =SUM(B17:M17) -> 276000 | O17: 0 | P17: =N17 -> 276000
A18: 103049 - Interest Income Other | N18: 0 | O18: 240 | P18: =O18 -> 240
A19: Total - FINANCE INCOME - FINANCE INCOME | B19: =SUM(B17) -> 23000 | C19: =SUM(C17) -> 23000 | D19: =SUM(D17) -> 23000 | E19: =SUM(E17) -> 23000 | F19: =SUM(F17) -> 23000 | G19: =SUM(G17) -> 23000 | H19: =SUM(H17) -> 23000 | I19: =SUM(I17) -> 23000 | ... M19: =SUM(M17) -> 23000 | N19: =SUM(N17:N18) -> 276000 | O19: =SUM(O17:O18) -> 240 | P19: =SUM(P17:P18) -> 276240
A20: OTHER INCOME - OTHER INCOME
A21: 103035 - Associate Membership Fee | B21: 0 | C21: 200 | D21: 1000 | E21: 700 | F21: 700 | G21: 200 | H21: 200 | I21: 0 | J21: 0 | K21: 0 | L21: 0 | M21: 0 | N21: =SUM(B21:M21) -> 3000 | O21: 1448.87 | P21: 2000
A22: Total - OTHER INCOME - OTHER INCOME | B22: =SUM(B21) -> 0 | C22: =SUM(C21) -> 200 | D22: =SUM(D21) -> 1000 | E22: =SUM(E21) -> 700 | F22: =SUM(F21) -> 700 | G22: =SUM(G21) -> 200 | H22: =SUM(H21) -> 200 | I22: =SUM(I21) -> 0 | ... P22: =SUM(P21) -> 2000
A23: STUDENT SERVICES AND AMENITIES FEE FROM UWA - STUDENT SERVICES AND AMENITIES FEE FROM UWA
A24: 103034 - SSAF | B24: 333500 | C24: 333500 | D24: 333500 | E24: 333500 | F24: 333500 | G24: 333500 | H24: 333500 | I24: 333500 | J24: 333500 | K24: 333500 | L24: 333500 | M24: 331500 | N24: =SUM(B24:M24) -> 4000000 | O24: 1499250 | P24: =N24 -> 4000000
A25: Total - STUDENT SERVICES AND AMENITIES FEE FROM UWA - STUDENT SERVICES AND AMENITIES FEE FROM UWA | B25: =SUM(B24) -> 333500 | C25: =SUM(C24) -> 333500 | D25: =SUM(D24) -> 333500 | E25: =SUM(E24) -> 333500 | F25: =SUM(F24) -> 333500 | G25: =SUM(G24) -> 333500 | H25: =SUM(H24) -> 333500 | I25: =SUM(I24) -> 333500 | ... P25: =SUM(P24) -> 4000000
A26: Total - Other Income | B26: =SUM(B19,B22,B25) -> 356500 | C26: =SUM(C19,C22,C25) -> 356700 | D26: =SUM(D19,D22,D25) -> 357500 | E26: =SUM(E19,E22,E25) -> 357200 | F26: =SUM(F19,F22,F25) -> 357200 | G26: =SUM(G19,G22,G25) -> 356700 | H26: =SUM(H19,H22,H25) -> 356700 | I26: =SUM(I19,I22,I25) -> 356500 | ... P26: =SUM(P19,P22,P25) -> 4278240
A27: Other Expenses
A28: FINANCE COSTS - FINANCE COSTS
A29: 105153 - Interest Expense | B29: -1250 | C29: -1250 | D29: -1250 | E29: -1250 | F29: -1250 | G29: -1250 | H29: -1250 | I29: -1250 | J29: -1250 | K29: -1250 | L29: -1250 | M29: -1250 | N29: =SUM(B29:M29) -> -15000 | O29: 0 | P29: -15000
A30: Total - FINANCE COSTS - FINANCE COSTS | B30: =SUM(B29) -> -1250 | C30: =SUM(C29) -> -1250 | D30: =SUM(D29) -> -1250 | E30: =SUM(E29) -> -1250 | F30: =SUM(F29) -> -1250 | G30: =SUM(G29) -> -1250 | H30: =SUM(H29) -> -1250 | I30: =SUM(I29) -> -1250 | ... P30: =SUM(P29) -> -15000
A31: Total - Other Expenses | B31: =SUM(B30) -> -1250 | C31: =SUM(C30) -> -1250 | D31: =SUM(D30) -> -1250 | E31: =SUM(E30) -> -1250 | F31: =SUM(F30) -> -1250 | G31: =SUM(G30) -> -1250 | H31: =SUM(H30) -> -1250 | I31: =SUM(I30) -> -1250 | ... P31: =SUM(P30) -> -15000
A32: Net Profit/(Loss) | B32: =B14+B26+B31 -> 355250 | C32: =C14+C26+C31 -> 355450 | D32: =D14+D26+D31 -> 356250 | E32: =E14+E26+E31 -> 355950 | F32: =F14+F26+F31 -> 355950 | G32: =G14+G26+G31 -> 355450 | H32: =H14+H26+H31 -> 355450 | I32: =I14+I26+I31 -> 355250 | ... P32: =P14+P26+P31 -> 4263240

Sheet CS PROP
A1: Guild of Undergraduates
A2: Budget Profit and Loss
A3: FY 2025
A4: CS: PROPERTY SERVICES
A6: Financial Row | B6: 45658 | C6: 45689 | D6: 45717 | E6: 45748 | F6: 45778 | G6: 45809 | H6: 45839 | I6: 45870 | J6: 45901 | K6: 45931 | L6: 45962 | M6: 45992 | N6: Total
B7: Amount | C7: Amount | D7: Amount | E7: Amount | F7: Amount | G7: Amount | H7: Amount | I7: Amount | J7: Amount | K7: Amount | L7: Amount | M7: Amount | N7: Amount
A8: Gross Profit | B8: =0-0 -> 0 | C8: =0-0 -> 0 | D8: =0-0 -> 0 | E8: =0-0 -> 0 | F8: =0-0 -> 0 | G8: =0-0 -> 0 | H8: =0-0 -> 0 | I8: =0-0 -> 0 | ... N8: =0-0 -> 0
A9: Expenses
A10: ADMINISTRATIVE EXPENSES - ADMINISTRATIVE EXPENSES
A11: 305108 - Cleaning Contract | B11: 2300 | C11: 2300 | D11: 2300 | E11: 2300 | F11: 2300 | G11: 2300 | H11: 2300 | I11: 2300 | J11: 2300 | K11: 2300 | L11: 2300 | M11: 2300 | N11: =SUM(B11:M11) -> 27600
A12: 305111 - Communication Expenses | B12: 0 | C12: 0 | D12: 0 | E12: 0 | F12: 0 | G12: 0 | H12: 0 | I12: 0 | J12: 0 | K12: 0 | L12: 0 | M12: 0 | N12: =SUM(B12:M12) -> 0
A13: 305132 - Utilities | B13: 6000 | C13: 6000 | D13: 6000 | E13: 6000 | F13: 6000 | G13: 6000 | H13: 6000 | I13: 6000 | J13: 6000 | K13: 6000 | L13: 6000 | M13: 6000 | N13: =SUM(B13:M13) -> 72000
A14: 305159 - Legal Fees & Charges | B14: 20000 | C14: 0 | D14: 0 | E14: 0 | F14: 0 | G14: 0 | H14: 0 | I14: 0 | J14: 0 | K14: 0 | L14: 0 | M14: 0 | N14: =SUM(B14:M14) -> 20000
A15: 305162 - Licence & Permits | B15: 0 | C15: 0 | D15: 0 | E15: 0 | F15: 0 | G15: 0 | H15: 750 | I15: 100 | J15: 0 | K15: 0 | L15: 0 | M15: 0 | N15: =SUM(B15:M15) -> 850
A16: 305195 - Repairs to Commercial Property | B16: 125 | C16: 125 | D16: 125 | E16: 125 | F16: 125 | G16: 125 | H16: 125 | I16: 125 | J16: 125 | K16: 125 | L16: 125 | M16: 125 | N16: =SUM(B16:M16) -> 1500
A17: 305228 - Waste Control | B17: 750 | C17: 750 | D17: 750 | E17: 750 | F17: 750 | G17: 750 | H17: 750 | I17: 750 | J17: 750 | K17: 750 | L17: 750 | M17: 750 | N17: =SUM(B17:M17) -> 9000
A18: 306001 - Depreciation - Plant & Equipment | B18: 716.39 | C18: 716.39 | D18: 716.39 | E18: 716.39 | F18: 716.39 | G18: 716.39 | H18: 716.39 | I18: 716.39 | J18: 716.39 | K18: 716.39 | L18: 716.39 | M18: 716.39 | N18: =SUM(B18:M18) -> 8596.68
A19: 306003 - Depreciation - Furniture & Fittings | B19: 0 | C19: 0 | D19: 0 | E19: 0 | F19: 0 | G19: 0 | H19: 0 | I19: 0 | J19: 0 | K19: 0 | L19: 0 | M19: 0 | N19: =SUM(B19:M19) -> 0
A20: 306005 - Depreciation - Property | B20: 11931.78 | C20: 11923.64 | D20: 11923.64 | E20: 11923.64 | F20: 11923.64 | G20: 11923.64 | H20: 11923.64 | I20: 11923.64 | J20: 11923.64 | K20: 11923.64 | L20: 11923.64 | M20: 11923.64 | N20: =SUM(B20:M20) -> 143091.82
A21: Total - ADMINISTRATIVE EXPENSES - ADMINISTRATIVE EXPENSES | B21: =SUM(B11:B20) -> 41823.17 | C21: =SUM(C11:C20) -> 21815.03 | D21: =SUM(D11:D20) -> 21815.03 | E21: =SUM(E11:E20) -> 21815.03 | F21: =SUM(F11:F20) -> 21815.03 | G21: =SUM(G11:G20) -> 21815.03 | H21: =SUM(H11:H20) -> 22565.03 | I21: =SUM(I11:I20) -> 21915.03 | ... N21: =SUM(N11:N20) -> 282638.5
A22: EMPLOYEE BENEFITS EXPENSE - EMPLOYEE BENEFITS EXPENSE
A23: 304001 - Salaries & Wages - Permanent Staff | B23: 6210.4767 | C23: 6537.3439 | D23: 6864.2111 | E23: 7191.0782 | F23: 7517.9454 | G23: 6537.3439 | H23: 7517.9454 | I23: 7191.0782 | J23: 6864.2111 | K23: 7517.9454 | L23: 6864.2111 | M23: 7191.0782 | N23: =SUM(B23:M23) -> 84004.869
A24: 304010 - Superannuation | B24: 1033.3709 | C24: 1087.7589 | D24: 1142.1468 | E24: 1196.5348 | F24: 1250.9227 | G24: 1087.7589 | H24: 1250.9227 | I24: 1196.5348 | J24: 1142.1468 | K24: 1250.9227 | L24: 1142.1468 | M24: 1196.5348 | N24: =SUM(B24:M24) -> 13977.702
A25: 304013 - Workers Compensation Insurance | B25: 65.807022 | C25: 69.27055 | D25: 72.734077 | E25: 76.197605 | F25: 79.661132 | G25: 69.27055 | H25: 79.661132 | I25: 76.197605 | J25: 72.734077 | K25: 79.661132 | L25: 72.734077 | M25: 76.197605 | N25: =SUM(B25:M25) -> 890.12656
A26: 304016 - Annual Leave Provision | B26: 561.31639 | C26: 590.85936 | D26: 620.40232 | E26: 649.94529 | F26: 679.48826 | G26: 590.85936 | H26: 679.48826 | I26: 649.94529 | J26: 620.40232 | K26: 679.48826 | L26: 620.40232 | M26: 649.94529 | N26: =SUM(B26:M26) -> 7592.5427
A27: 304019 - Long Service Leave Provision | B27: 155.26192 | C27: 163.4336 | D27: 171.60528 | E27: 179.77696 | F27: 187.94864 | G27: 163.4336 | H27: 187.94864 | I27: 179.77696 | J27: 171.60528 | K27: 187.94864 | L27: 171.60528 | M27: 179.77696 | N27: =SUM(B27:M27) -> 2100.1217
A28: Total - EMPLOYEE BENEFITS EXPENSE - EMPLOYEE BENEFITS EXPENSE | B28: =SUM(B23:B27) -> 8026.2329 | C28: =SUM(C23:C27) -> 8448.6663 | D28: =SUM(D23:D27) -> 8871.0996 | E28: =SUM(E23:E27) -> 9293.5329 | F28: =SUM(F23:F27) -> 9715.9662 | G28: =SUM(G23:G27) -> 8448.6663 | H28: =SUM(H23:H27) -> 9715.9662 | I28: =SUM(I23:I27) -> 9293.5329 | ... N28: =SUM(N23:N27) -> 108565.36
A29: Total - Expenses | B29: =SUM(B21,B28) -> 49849.403 | C29: =SUM(C21,C28) -> 30263.696 | D29: =SUM(D21,D28) -> 30686.13 | E29: =SUM(E21,E28) -> 31108.563 | F29: =SUM(F21,F28) -> 31530.996 | G29: =SUM(G21,G28) -> 30263.696 | H29: =SUM(H21,H28) -> 32280.996 | I29: =SUM(I21,I28) -> 31208.563 | ... N29: =SUM(N21,N28) -> 391203.86
A30: Operating Profit | B30: =B8-B29 -> -49849.403 | C30: =C8-C29 -> -30263.696 | D30: =D8-D29 -> -30686.13 | E30: =E8-E29 -> -31108.563 | F30: =F8-F29 -> -31530.996 | G30: =G8-G29 -> -30263.696 | H30: =H8-H29 -> -32280.996 | I30: =I8-I29 -> -31208.563 | ... N30: =N8-N29 -> -391203.86
A31: Other Income
A32: OTHER INCOME - OTHER INCOME
A33: 103053 - Tenant Utility Income | B33: 5200 | C33: 5200 | D33: 5200 | E33: 5200 | F33: 5200 | G33: 5200 | H33: 5200 | I33: 5200 | J33: 5200 | K33: 5200 | L33: 5200 | M33: 5200 | N33: =SUM(B33:M33) -> 62400
A34: 103069 - Sundry Income | B34: 0 | C34: 0 | D34: 0 | E34: 4253.55 | F34: 0 | G34: 0 | H34: 4253.55 | I34: 0 | J34: 0 | K34: 4253.55 | L34: 0 | M34: 4253.55 | N34: =SUM(B34:M34) -> 17014.2
A35: Total - OTHER INCOME - OTHER INCOME | B35: =SUM(B33:B34) -> 5200 | C35: =SUM(C33:C34) -> 5200 | D35: =SUM(D33:D34) -> 5200 | E35: =SUM(E33:E34) -> 9453.55 | F35: =SUM(F33:F34) -> 5200 | G35: =SUM(G33:G34) -> 5200 | H35: =SUM(H33:H34) -> 9453.55 | I35: =SUM(I33:I34) -> 5200 | ... N35: =SUM(N33:N34) -> 79414.2
A36: RENTAL - PROPERTY & EQUIPMENT INCOME - RENTAL - PROPERTY & EQUIPMENT INCOME
A37: 103052 - Lease/Rental Income | B37: 24083.36 | C37: 24083.36 | D37: 24083.36 | E37: 24083.36 | F37: 24083.36 | G37: 24083.36 | H37: 24083.36 | I37: 24083.36 | J37: 24083.36 | K37: 24083.36 | L37: 24083.36 | M37: 24083.36 | N37: =SUM(B37:M37) -> 289000.32
A38: Total - RENTAL - PROPERTY & EQUIPMENT INCOME - RENTAL - PROPERTY & EQUIPMENT INCOME | B38: =SUM(B37) -> 24083.36 | C38: =SUM(C37) -> 24083.36 | D38: =SUM(D37) -> 24083.36 | E38: =SUM(E37) -> 24083.36 | F38: =SUM(F37) -> 24083.36 | G38: =SUM(G37) -> 24083.36 | H38: =SUM(H37) -> 24083.36 | I38: =SUM(I37) -> 24083.36 | ... N38: =SUM(N37) -> 289000.32
A39: Total - Other Income | B39: =SUM(B35,B38) -> 29283.36 | C39: =SUM(C35,C38) -> 29283.36 | D39: =SUM(D35,D38) -> 29283.36 | E39: =SUM(E35,E38) -> 33536.91 | F39: =SUM(F35,F38) -> 29283.36 | G39: =SUM(G35,G38) -> 29283.36 | H39: =SUM(H35,H38) -> 33536.91 | I39: =SUM(I35,I38) -> 29283.36 | ... N39: =SUM(N35,N38) -> 368414.52
A40: Net Profit/(Loss) | B40: =B30+B39+0 -> -20566.043 | C40: =C30+C39+0 -> -980.33626 | D40: =D30+D39+0 -> -1402.7696 | E40: =E30+E39+0 -> 2428.3471 | F40: =F30+F39+0 -> -2247.6362 | G40: =G30+G39+0 -> -980.33626 | H40: =H30+H39+0 -> 1255.9138 | I40: =I30+I39+0 -> -1925.2029 | ... N40: =N30+N39+0 -> -22789.341

Sheet CAT PROP
A1: Guild of Undergraduates
A2: Budget Profit and Loss
A3: FY 2025
A4: CATERING PROPERTY
A6: Financial Row | B6: 45658 | C6: 45689 | D6: 45717 | E6: 45748 | F6: 45778 | G6: 45809 | H6: 45839 | I6: 45870 | J6: 45901 | K6: 45931 | L6: 45962 | M6: 45992 | N6: Total
B7: Amount | C7: Amount | D7: Amount | E7: Amount | F7: Amount | G7: Amount | H7: Amount | I7: Amount | J7: Amount | K7: Amount | L7: Amount | M7: Amount | N7: Amount
A8: Gross Profit | B8: =0-0 -> 0 | C8: =0-0 -> 0 | D8: =0-0 -> 0 | E8: =0-0 -> 0 | F8: =0-0 -> 0 | G8: =0-0 -> 0 | H8: =0-0 -> 0 | I8: =0-0 -> 0 | ... N8: =0-0 -> 0
A9: Expenses
A10: ADMINISTRATIVE EXPENSES - ADMINISTRATIVE EXPENSES
A11: 305083 - Advertising & Promotion | B11: 0 | C11: 1300 | D11: 0 | E11: 0 | F11: 0 | G11: 0 | H11: 1000 | I11: 0 | J11: 0 | K11: 0 | L11: 0 | M11: 0 | N11: =SUM(B11:M11) -> 2300
A12: 305108 - Cleaning Contract | B12: 6000 | C12: 6000 | D12: 6000 | E12: 6000 | F12: 6000 | G12: 6000 | H12: 6000 | I12: 6000 | J12: 6000 | K12: 6000 | L12: 6000 | M12: 6000 | N12: =SUM(B12:M12) -> 72000
A13: 305109 - Cleaning Consumables | B13: 20 | C13: 20 | D13: 20 | E13: 20 | F13: 20 | G13: 20 | H13: 20 | I13: 20 | J13: 20 | K13: 20 | L13: 20 | M13: 20 | N13: =SUM(B13:M13) -> 240
A14: 305111 - Communication Expenses | B14: 0 | C14: 0 | D14: 0 | E14: 0 | F14: 0 | G14: 0 | H14: 0 | I14: 0 | J14: 0 | K14: 0 | L14: 0 | M14: 0 | N14: =SUM(B14:M14) -> 0
A15: 305132 - Utilities | B15: 5000 | C15: 5000 | D15: 5000 | E15: 5000 | F15: 5000 | G15: 5000 | H15: 5000 | I15: 5000 | J15: 5000 | K15: 5000 | L15: 5000 | M15: 5000 | N15: =SUM(B15:M15) -> 60000
A16: 305156 - Laundry | B16: 50 | C16: 50 | D16: 50 | E16: 50 | F16: 50 | G16: 50 | H16: 50 | I16: 50 | J16: 50 | K16: 50 | L16: 50 | M16: 50 | N16: =SUM(B16:M16) -> 600
A17: 305159 - Legal Fees & Charges | B17: 0 | C17: 30000 | D17: 0 | E17: 0 | F17: 0 | G17: 0 | H17: 0 | I17: 0 | J17: 0 | K17: 0 | L17: 0 | M17: 0 | N17: =SUM(B17:M17) -> 30000
A18: 305162 - Licence & Permits | B18: 0 | C18: 0 | D18: 0 | E18: 0 | F18: 0 | G18: 2500 | H18: 0 | I18: 0 | J18: 0 | K18: 0 | L18: 0 | M18: 0 | N18: =SUM(B18:M18) -> 2500
A19: 305189 - Repairs & Maintenance | B19: 2000 | C19: 0 | D19: 0 | E19: 0 | F19: 0 | G19: 0 | H19: 0 | I19: 0 | J19: 0 | K19: 0 | L19: 0 | M19: 0 | N19: =SUM(B19:M19) -> 2000
A20: 305228 - Waste Control | B20: 2000 | C20: 2000 | D20: 2000 | E20: 2000 | F20: 2000 | G20: 2000 | H20: 2000 | I20: 2000 | J20: 2000 | K20: 2000 | L20: 2000 | M20: 2000 | N20: =SUM(B20:M20) -> 24000
A21: 306001 - Depreciation - Plant & Equipment | B21: 446.63 | C21: 446.63 | D21: 446.63 | E21: 446.63 | F21: 446.63 | G21: 446.63 | H21: 446.63 | I21: 446.63 | J21: 446.63 | K21: 446.63 | L21: 446.63 | M21: 446.63 | N21: =SUM(B21:M21) -> 5359.56
A22: 306003 - Depreciation - Furniture & Fittings | B22: 2678.47 | C22: 2678.47 | D22: 2678.47 | E22: 2678.47 | F22: 2678.47 | G22: 2678.47 | H22: 2678.47 | I22: 2678.47 | J22: 2678.47 | K22: 2678.47 | L22: 2678.47 | M22: 2678.47 | N22: =SUM(B22:M22) -> 32141.64
A23: 306005 - Depreciation - Property | B23: 3833.46 | C23: 3833.46 | D23: 3833.46 | E23: 3833.46 | F23: 3833.46 | G23: 3833.46 | H23: 3833.46 | I23: 3833.46 | J23: 3833.46 | K23: 3833.46 | L23: 3833.46 | M23: 3833.46 | N23: =SUM(B23:M23) -> 46001.52
A24: Total - ADMINISTRATIVE EXPENSES - ADMINISTRATIVE EXPENSES | B24: =SUM(B11:B23) -> 22028.56 | C24: =SUM(C11:C23) -> 51328.56 | D24: =SUM(D11:D23) -> 20028.56 | E24: =SUM(E11:E23) -> 20028.56 | F24: =SUM(F11:F23) -> 20028.56 | G24: =SUM(G11:G23) -> 22528.56 | H24: =SUM(H11:H23) -> 21028.56 | I24: =SUM(I11:I23) -> 20028.56 | ... N24: =SUM(N11:N23) -> 277142.72
A25: EMPLOYEE BENEFITS EXPENSE - EMPLOYEE BENEFITS EXPENSE
A26: 304001 - Salaries & Wages - Permanent Staff | B26: 6210.4767 | C26: 6537.3439 | D26: 6864.2111 | E26: 7191.0782 | F26: 7517.9454 | G26: 6537.3439 | H26: 7517.9454 | I26: 7191.0782 | J26: 6864.2111 | K26: 7517.9454 | L26: 6864.2111 | M26: 8240.2346 | N26: =SUM(B26:M26) -> 85054.025
A27: 304010 - Superannuation | B27: 1033.3709 | C27: 1087.7589 | D27: 1142.1468 | E27: 1196.5348 | F27: 1250.9227 | G27: 1087.7589 | H27: 1250.9227 | I27: 1196.5348 | J27: 1142.1468 | K27: 1250.9227 | L27: 1142.1468 | M27: 1380.1371 | N27: =SUM(B27:M27) -> 14161.304
A28: 304013 - Workers Compensation Insurance | B28: 65.807022 | C28: 69.27055 | D28: 72.734077 | E28: 76.197605 | F28: 79.661132 | G28: 69.27055 | H28: 79.661132 | I28: 76.197605 | J28: 72.734077 | K28: 79.661132 | L28: 72.734077 | M28: 76.197605 | N28: =SUM(B28:M28) -> 890.12656
A29: 304016 - Annual Leave Provision | B29: 561.31639 | C29: 590.85936 | D29: 620.40232 | E29: 649.94529 | F29: 679.48826 | G29: 590.85936 | H29: 679.48826 | I29: 649.94529 | J29: 620.40232 | K29: 679.48826 | L29: 620.40232 | M29: 649.94529 | N29: =SUM(B29:M29) -> 7592.5427
A30: 304019 - Long Service Leave Provision | B30: 155.26192 | C30: 163.4336 | D30: 171.60528 | E30: 179.77696 | F30: 187.94864 | G30: 163.4336 | H30: 187.94864 | I30: 179.77696 | J30: 171.60528 | K30: 187.94864 | L30: 171.60528 | M30: 179.77696 | N30: =SUM(B30:M30) -> 2100.1217
A31: 304023 - Supplementary Payment Provision | B31: 136.9305 | C31: 136.9305 | D31: 136.9305 | E31: 136.9305 | F31: 136.9305 | G31: 136.9305 | H31: 136.9305 | I31: 136.9305 | J31: 136.9305 | K31: 136.9305 | L31: 136.9305 | M31: 136.9305 | N31: =SUM(B31:M31) -> 1643.166
A32: Total - EMPLOYEE BENEFITS EXPENSE - EMPLOYEE BENEFITS EXPENSE | B32: =SUM(B26:B31) -> 8163.1634 | C32: =SUM(C26:C31) -> 8585.5968 | D32: =SUM(D26:D31) -> 9008.0301 | E32: =SUM(E26:E31) -> 9430.4634 | F32: =SUM(F26:F31) -> 9852.8967 | G32: =SUM(G26:G31) -> 8585.5968 | H32: =SUM(H26:H31) -> 9852.8967 | I32: =SUM(I26:I31) -> 9430.4634 | ... N32: =SUM(N26:N31) -> 111441.29
A33: Total - Expenses | B33: =SUM(B24,B32) -> 30191.723 | C33: =SUM(C24,C32) -> 59914.157 | D33: =SUM(D24,D32) -> 29036.59 | E33: =SUM(E24,E32) -> 29459.023 | F33: =SUM(F24,F32) -> 29881.457 | G33: =SUM(G24,G32) -> 31114.157 | H33: =SUM(H24,H32) -> 30881.457 | I33: =SUM(I24,I32) -> 29459.023 | ... N33: =SUM(N24,N32) -> 388584.01
A34: Operating Profit | B34: =B8-B33 -> -30191.723 | C34: =C8-C33 -> -59914.157 | D34: =D8-D33 -> -29036.59 | E34: =E8-E33 -> -29459.023 | F34: =F8-F33 -> -29881.457 | G34: =G8-G33 -> -31114.157 | H34: =H8-H33 -> -30881.457 | I34: =I8-I33 -> -29459.023 | ... N34: =N8-N33 -> -388584.01
A35: Other Income
A36: COMMISSION INCOME - COMMISSION INCOME
A37: 103041 - Vending Commission | B37: 4750 | C37: 4750 | D37: 4750 | E37: 4750 | F37: 4750 | G37: 4750 | H37: 4750 | I37: 4750 | J37: 4750 | K37: 4750 | L37: 4750 | M37: 4750 | N37: =SUM(B37:M37) -> 57000
A38: Total - COMMISSION INCOME - COMMISSION INCOME | B38: =SUM(B37) -> 4750 | C38: =SUM(C37) -> 4750 | D38: =SUM(D37) -> 4750 | E38: =SUM(E37) -> 4750 | F38: =SUM(F37) -> 4750 | G38: =SUM(G37) -> 4750 | H38: =SUM(H37) -> 4750 | I38: =SUM(I37) -> 4750 | ... N38: =SUM(N37) -> 57000
A39: OTHER INCOME - OTHER INCOME
A40: 103053 - Tenant Utility Income | B40: 2500 | C40: 2500 | D40: 2500 | E40: 2500 | F40: 2500 | G40: 2500 | H40: 2500 | I40: 2500 | J40: 2500 | K40: 2500 | L40: 2500 | M40: 2500 | N40: =SUM(B40:M40) -> 30000
A41: 103054 - Tenant Outgoings | B41: 8000 | C41: 8000 | D41: 8000 | E41: 8000 | F41: 8000 | G41: 8000 | H41: 8000 | I41: 8000 | J41: 8000 | K41: 8000 | L41: 8000 | M41: 8000 | N41: =SUM(B41:M41) -> 96000
...

Sheet TAV
A1: Guild of Undergraduates
A2: Budget Profit and Loss
A3: FY 2025
A4: TAVERN
A6: Financial Row | B6: 45658 | C6: =B6+32 -> 45690 | D6: =C6+32 -> 45722 | E6: =D6+32 -> 45754 | F6: =E6+32 -> 45786 | G6: =F6+32 -> 45818 | H6: =G6+32 -> 45850 | I6: =H6+32 -> 45882 | J6: =I6+32 -> 45914 | ... M6: =L6+32 -> 46010 | N6: Total
B7: Amount | C7: Amount | D7: Amount | E7: Amount | F7: Amount | G7: Amount | H7: Amount | I7: Amount | J7: Amount | K7: Amount | L7: Amount | M7: Amount | N7: Amount
A8: Income
A9: SALES CATERING DISCOUNT - SALES CATERING DISCOUNT
A10: 102000 - Guild Member Discount | B10: -34.511367 | C10: -1535.7558 | D10: -2815.8138 | E10: -1451.0461 | F10: -1793.0224 | G10: -768.66227 | H10: -1109.0698 | I10: -2133.43 | J10: -1366.3364 | K10: -1741.2553 | L10: -818.86062 | M10: -119.22109 | N10: =SUM(B10:M10) -> -15686.985
A11: 102003 - Other Promotional Discounts | B11: -172.55684 | C11: -7678.7792 | D11: -14079.069 | E11: -7255.2306 | F11: -8965.1119 | G11: -3843.3113 | H11: -5545.3492 | I11: -10667.15 | J11: -6831.682 | K11: -8706.2767 | L11: -4094.3031 | M11: -596.10543 | N11: =SUM(B11:M11) -> -78434.925
A12: Total - SALES CATERING DISCOUNT - SALES CATERING DISCOUNT | B12: =SUM(B10:B11) -> -207.0682 | C12: =SUM(C10:C11) -> -9214.535 | D12: =SUM(D10:D11) -> -16894.883 | E12: =SUM(E10:E11) -> -8706.2767 | F12: =SUM(F10:F11) -> -10758.134 | G12: =SUM(G10:G11) -> -4611.9736 | H12: =SUM(H10:H11) -> -6654.419 | I12: =SUM(I10:I11) -> -12800.58 | ... N12: =SUM(N10:N11) -> -94121.91
A13: SALES OF GOODS - SALES OF GOODS
A14: 101001 - Sales - Catering | B14: 2300.7578 | C14: 102383.72 | D14: 187720.92 | E14: 96736.408 | F14: 119534.83 | G14: 51244.151 | H14: 73937.989 | I14: 142228.66 | J14: 91089.093 | K14: 116083.69 | L14: 54590.708 | M14: 7948.0724 | N14: =SUM(B14:M14) -> 1045799
A15: Total - SALES OF GOODS - SALES OF GOODS | B15: =SUM(B14) -> 2300.7578 | C15: =SUM(C14) -> 102383.72 | D15: =SUM(D14) -> 187720.92 | E15: =SUM(E14) -> 96736.408 | F15: =SUM(F14) -> 119534.83 | G15: =SUM(G14) -> 51244.151 | H15: =SUM(H14) -> 73937.989 | I15: =SUM(I14) -> 142228.66 | ... N15: =SUM(N14) -> 1045799
A16: Total - Income | B16: =SUM(B12,B15) -> 2093.6896 | C16: =SUM(C12,C15) -> 93169.187 | D16: =SUM(D12,D15) -> 170826.04 | E16: =SUM(E12,E15) -> 88030.131 | F16: =SUM(F12,F15) -> 108776.69 | G16: =SUM(G12,G15) -> 46632.177 | H16: =SUM(H12,H15) -> 67283.57 | I16: =SUM(I12,I15) -> 129428.08 | ... N16: =SUM(N12,N15) -> 951677.09
A17: Cost Of Sales
A18: 201070 - Cost of Goods Sold | B18: 732.79136 | C18: 32609.215 | D18: 59789.113 | E18: 30810.546 | F18: 38071.842 | G18: 16321.262 | H18: 23549.25 | I18: 45299.829 | J18: 29011.876 | K18: 36972.655 | L18: 17387.14 | M18: 2531.4611 | N18: =SUM(B18:M18) -> 333086.98
A19: Total - Cost Of Sales | B19: =SUM(B18) -> 732.79136 | C19: =SUM(C18) -> 32609.215 | D19: =SUM(D18) -> 59789.113 | E19: =SUM(E18) -> 30810.546 | F19: =SUM(F18) -> 38071.842 | G19: =SUM(G18) -> 16321.262 | H19: =SUM(H18) -> 23549.25 | I19: =SUM(I18) -> 45299.829 | ... N19: =SUM(N18) -> 333086.98
A20: Gross Profit | B20: =B16-B19 -> 1360.8982 | C20: =C16-C19 -> 60559.972 | D20: =D16-D19 -> 111036.92 | E20: =E16-E19 -> 57219.585 | F20: =F16-F19 -> 70704.849 | G20: =G16-G19 -> 30310.915 | H20: =H16-H19 -> 43734.321 | I20: =I16-I19 -> 84128.255 | ... N20: =N16-N19 -> 618590.11 | P20: =N20/N16 -> 0.65
A21: Expenses
A22: ADMINISTRATIVE EXPENSES - ADMINISTRATIVE EXPENSES
A23: 305057 - Website | B23: 0 | C23: 0 | D23: 0 | E23: 0 | F23: 0 | G23: 120 | H23: 0 | I23: 410 | J23: 370 | K23: 0 | L23: 0 | M23: 0 | N23: =SUM(B23:M23) -> 900
A24: 305039 - Hire of Bands & DJs | B24: 0 | C24: 300 | D24: 1200 | E24: 900 | F24: 1200 | G24: 0 | H24: 300 | I24: 1200 | J24: 1200 | K24: 6700 | L24: 0 | M24: 0 | N24: =SUM(B24:M24) -> 13000
A25: 305055 - Tavern Entertainment | B25: 0 | C25: 0 | D25: 0 | E25: 0 | F25: 0 | G25: 0 | H25: 0 | I25: 0 | J25: 0 | K25: 0 | L25: 0 | M25: 0 | N25: =SUM(B25:M25) -> 0
A26: 305082 - Pool Table Expenses | B26: 0 | C26: 150 | D26: 0 | E26: 0 | F26: 0 | G26: 0 | H26: 0 | I26: 150 | J26: 0 | K26: 0 | L26: 0 | M26: 0 | N26: =SUM(B26:M26) -> 300
A27: 305083 - Advertising & Promotion | B27: 500 | C27: 1000 | D27: 1000 | E27: 500 | F27: 1000 | G27: 800 | H27: 200 | I27: 1000 | J27: 1000 | K27: 1000 | L27: 500 | M27: 0 | N27: =SUM(B27:M27) -> 8500
A28: 305102 - Bank Charges | B28: 380 | C28: 1400 | D28: 1900 | E28: 1500 | F28: 1800 | G28: 800 | H28: 800 | I28: 1060 | J28: 1000 | K28: 1700 | L28: 1000 | M28: 400 | N28: =SUM(B28:M28) -> 13740
A29: 305108 - Cleaning Contract | B29: 1370 | C29: 1400 | D29: 3500 | E29: 2300 | F29: 1700 | G29: 3000 | H29: 1500 | I29: 2400 | J29: 2250 | K29: 1600 | L29: 1600 | M29: 3000 | N29: =SUM(B29:M29) -> 25620
A30: 305109 - Cleaning Consumables | B30: 0 | C30: 100 | D30: 150 | E30: 50 | F30: 50 | G30: 150 | H30: 50 | I30: 150 | J30: 300 | K30: 150 | L30: 100 | M30: 0 | N30: =SUM(B30:M30) -> 1250
A31: 305111 - Communication Expenses | B31: 140 | C31: 120 | D31: 120 | E31: 120 | F31: 120 | G31: 120 | H31: 120 | I31: 120 | J31: 120 | K31: 120 | L31: 120 | M31: 120 | N31: =SUM(B31:M31) -> 1460
A32: 305112 - Paper Products & Packaging | B32: 0 | C32: 500 | D32: 600 | E32: 800 | F32: 1100 | G32: 400 | H32: 400 | I32: 1100 | J32: 500 | K32: 300 | L32: 300 | M32: 0 | N32: =SUM(B32:M32) -> 6000
A33: 305132 - Utilities | B33: 1150 | C33: 900 | D33: 1050 | E33: 900 | F33: 1050 | G33: 950 | H33: 1500 | I33: 1500 | J33: 900 | K33: 950 | L33: 900 | M33: 1150 | N33: =SUM(B33:M33) -> 12900
A34: 305141 - Equipment Rental | B34: 0 | C34: 0 | D34: 0 | E34: 0 | F34: 0 | G34: 0 | H34: 0 | I34: 0 | J34: 0 | K34: 0 | L34: 0 | M34: 0 | N34: =SUM(B34:M34) -> 0
... A53: 306005 - Depreciation - Property | B53: 1100.73 | C53: 1100.73 | D53: 1100.73 | E53: 1100.73 | F53: 1100.73 | G53: 1100.73 | H53: 1100.73 | I53: 1100.73 | J53: 1100.73 | K53: 1100.73 | L53: 1100.73 | M53: 1100.73 | N53: =SUM(B53:M53) -> 13208.76
A54: Total - ADMINISTRATIVE EXPENSES - ADMINISTRATIVE EXPENSES | B54: =SUM(B23:B53) -> 12374.35 | C54: =SUM(C23:C53) -> 22607.35 | D54: =SUM(D23:D53) -> 23024.35 | E54: =SUM(E23:E53) -> 18757.35 | F54: =SUM(F23:F53) -> 18204.35 | G54: =SUM(G23:G53) -> 18604.35 | H54: =SUM(H23:H53) -> 15134.35 | I54: =SUM(I23:I53) -> 20622.35 | ... N54: =SUM(N23:N53) -> 220846.2
A55: EMPLOYEE BENEFITS EXPENSE - EMPLOYEE BENEFITS EXPENSE
A56: 304001 - Salaries & Wages - Permanent Staff | B56: 6769.7176 | C56: 7126.0186 | D56: 7482.3195 | E56: 7838.6204 | F56: 8194.9213 | G56: 7126.0186 | H56: 8194.9213 | I56: 7838.6204 | J56: 7482.3195 | K56: 8194.9213 | L56: 7482.3195 | M56: 9212.1605 | N56: =SUM(B56:M56) -> 92942.879
A57: 304004 - Salaries & Wages - Other | B57: 600 | C57: 25000 | D57: 43000 | E57: 22000 | F57: 27000 | G57: 12000 | H57: 17000 | I57: 33000 | J57: 21000 | K57: 27000 | L57: 13000 | M57: 2000 | N57: =SUM(B57:M57) -> 242600
A58: 304010 - Superannuation | B58: 1485.8536 | C58: 4436.4841 | D58: 6632.7145 | E58: 4231.82 | F58: 4895.6755 | G58: 2904.1091 | H58: 3804.0505 | I58: 5697.57 | J58: 4147.0895 | K58: 5034.0505 | L58: 3163.0895 | M58: 2124.9395 | N58: =SUM(B58:M58) -> 48557.446
A59: 304013 - Workers Compensation Insurance | B59: 77.575313 | C59: 318.94572 | D59: 497.99613 | E59: 297.28405 | F59: 349.74696 | G59: 192.35822 | H59: 252.37196 | I59: 404.39655 | J59: 283.77113 | K59: 349.74696 | L59: 205.87113 | M59: 102.53405 | N59: =SUM(B59:M59) -> 3332.5982
...

Sheet CAT OUT
C1: Consolidated CATERING OUTLET SUMMARY
D2: % | E2: 2023 Budget Revenue | F2: 2024 Budget W/ Cost Allocation | G2: 2025 Budget | H2: 2024 Actual (Fcst) | I2: 2024 Budget | J2: 2023 Actual | K2: 2023 Budget | L2: 2022 Actual | M2: 2022 Budget | N2: 2021 Actual | O2: 2021 Budget | P2: 2020 Actual | Q2: 2020 Budget | R2: 2019 Actual | S2: 2019 Budget | T2: Comments
A3: Total - SALES OF GOODS - SALES OF GOODS | B3: Net Profit/(Loss) | C3: BUSINESS SCHOOL | D3: =E3/$E$18 -> 0 | E3: =VLOOKUP(A3,'[2]BUSINESS SCHOOL'!1:1048576,14,FALSE) -> 0 | F3: =G3+('[2]Catering Admin Allocation'!I8) -> 22169.128 | G3: =VLOOKUP(B3,'[2]BUSINESS SCHOOL'!1:1048576,14,FALSE) -> 22169.128 | H3: 25266.16 | I3: 58854.73 | J3: -15464.85 | K3: -5017.4818 | L3: -26825.82 | M3: 1407.3368 | N3: -1366.67 | P3: -26664.37 | Q3: 0 | R3: -2955.04 | S3: 0
A4: Total - SALES OF GOODS - SALES OF GOODS | B4: Net Profit/(Loss) | C4: CATALYST | D4: =E4/$E$18 -> 0 | E4: =VLOOKUP(A4,[2]CATALYST!1:1048576,14,FALSE) -> 0 | F4: =G4+('[2]Catering Admin Allocation'!I9) -> 99333.504 | G4: =VLOOKUP(B4,[2]CATALYST!1:1048576,14,FALSE) -> 99333.504 | H4: 180445.75 | I4: 150380.82 | J4: 78129.58 | K4: 90730.066 | L4: 56084.4 | M4: 115115.88 | N4: 85337.36 | O4: 102852.01 | P4: 174330.48 | Q4: 95417.984 | R4: 135051.54 | S4: 81899.71
A5: Total - SALES OF GOODS - SALES OF GOODS | B5: Net Profit/(Loss) | C5: DENTISTRY | D5: =E5/$E$18 -> 0 | E5: =VLOOKUP(A5,[2]DENTISTRY!1:1048576,14,FALSE) -> 0 | F5: =G5+('[2]Catering Admin Allocation'!I10) -> 38394.799 | G5: =VLOOKUP(B5,[2]DENTISTRY!1:1048576,14,FALSE) -> 38394.799 | H5: 45708.23 | I5: 43717.69 | J5: 21416.89 | K5: 21920.636 | L5: 15753.32 | M5: 30881.998 | N5: 38941.11 | O5: 23033.417 | P5: 56350.63 | Q5: 22902.863 | R5: 32369.62 | S5: 28795.86
A6: Total - SALES OF GOODS - SALES OF GOODS | B6: Net Profit/(Loss) | C6: NEDLANDS | D6: =E6/$E$18 -> 0.059422468 | E6: =VLOOKUP(A6,[2]NEDLANDS!1:1048576,14,FALSE) -> 66070 | F6: =G6+('[2]Catering Admin Allocation'!I11) -> -128504.58 | G6: =VLOOKUP(B6,[2]NEDLANDS!1:1048576,14,FALSE) -> 212.22688 | H6: 4963.05 | I6: 797.02 | J6: 1014.47 | K6: 67.3875 | L6: 1620.86 | M6: 733.34485 | N6: -5354.52 | P6: -14099.64 | R6: -22573.34
A7: Total - SALES OF GOODS - SALES OF GOODS | B7: Net Profit/(Loss) | C7: HACKETT | D7: =E7/$E$18 -> 0 | E7: =VLOOKUP(A7,[2]HACKETT!1:1048576,14,FALSE) -> 0 | F7: =G7+('[2]Catering Admin Allocation'!I12) -> 22000.897 | G7: =VLOOKUP(B7,[2]HACKETT!1:1048576,14,FALSE) -> 22000.897 | H7: 39282.95 | I7: 67603.31 | J7: -37241.35 | K7: -5640.9352 | L7: -5904.85 | M7: 13372.714 | N7: 12249.52 | O7: -19211.387 | P7: 12097.76 | Q7: 10485.448 | R7: -13446.75 | S7: -4683.49
A8: Total - SALES OF GOODS - SALES OF GOODS | B8: Net Profit/(Loss) | C8: QUOBBA | D8: =E8/$E$18 -> 0 | E8: =VLOOKUP(A8,[2]QUOBBA!1:1048576,14,FALSE) -> 0 | F8: =G8+('[2]Catering Admin Allocation'!I13) -> 418048.51 | G8: =VLOOKUP(B8,[2]QUOBBA!1:1048576,14,FALSE) -> 418048.51 | H8: 157062.14 | I8: 178141.88 | J8: 338433.84 | K8: 340083.43 | L8: 242661.34 | M8: 302625.96 | N8: 275002.26 | O8: 316672.7 | P8: 386534.99 | Q8: 355265.57 | R8: 429332.17 | S8: 282827.71
A9: Total - SALES OF GOODS - SALES OF GOODS | H9: 0 | L9: =SUM(L3:L8) -> 283389.25 | M9: =SUM(M3:M8) -> 464137.23 | N9: =SUM(N3:N8) -> 404809.06 | O9: =SUM(O3:O8) -> 423346.73 | P9: =SUM(P3:P8) -> 588549.85 | Q9: =SUM(Q3:Q8) -> 484071.86 | R9: =SUM(R3:R8) -> 557778.2 | S9: =SUM(S3:S8) -> 388839.79
A10: Total - SALES OF GOODS - SALES OF GOODS | B10: Net Profit/(Loss) | C10: CATERING ADMIN | E10: 0 | G10: =VLOOKUP(B10,'[2] CATERING ADMIN'!1:1048576,14,FALSE) -> -354390.15 | H10: -306326.28 | I10: -300651.63 | J10: -255487.98 | K10: -308089.3 | L10: -190860.67 | M10: -290871.05 | N10: -253229.13 | O10: -290284.93 | P10: -219115.12 | Q10: -276843.74 | R10: -368194.22 | S10: -302457.43
A11: Total - SALES OF GOODS - SALES OF GOODS | B11: Net Profit/(Loss) | C11: FUNCTIONS | D11: =E11/$E$18 -> 0.3380785 | E11: =VLOOKUP(A11,[2]FUNCTIONS!1:1048576,14,FALSE) -> 375899 | F11: =G11+('[2]Catering Admin Allocation'!I17) -> 32450.036 | G11: =VLOOKUP(B11,[2]FUNCTIONS!1:1048576,14,FALSE) -> 71316.694 | H11: 100367.27 | I11: 59491.6 | J11: 49833.93 | K11: 54773.103 | L11: 44879.04 | M11: 42915.627 | N11: -14404.23 | O11: 75019.156 | P11: 18129.48 | Q11: 70837.972 | R11: 89883 | S11: 70507.61
A12: Total - SALES OF GOODS - SALES OF GOODS | B12: Net Profit/(Loss) | C12: KITCHEN | E12: 0 | F12: =G12 -> -176744.12 | G12: =VLOOKUP(B12,[2]KITCHEN!1:1048576,14,FALSE) -> -176744.12 | H12: -202943.4 | I12: -184146.46 | J12: -158347.45 | K12: -171547.21 | L12: -124183.47 | M12: -185012.35 | N12: -172330.73 | O12: -185090.44 | P12: -143684.18 | Q12: -184891.5 | R12: -199347.24 | S12: -202482.82
A13: Total - SALES OF GOODS - SALES OF GOODS | B13: Net Profit/(Loss) | C13: Total (ex Tavern) | E13: =SUM(E3:E10) -> 66070 | F13: =SUM(F3:F12) -> 327148.17 | G13: =SUM(G3:G12) -> 140341.49 | H13: =SUM(H3:H12) -> 43825.87 | I13: =SUM(I3:I9,I10) -> 198843.82 | J13: =SUM(J3:J12) -> 22287.08 | K13: =SUM(K3:K12) -> 17279.705 | L13: =SUM(L9,L10) -> 92528.58 | M13: =SUM(M9,M10) -> 173266.18 | N13: =SUM(N9,N10) -> 151579.93 | O13: =SUM(O9,O10) -> 133061.8 | P13: =SUM(P9,P10) -> 369434.73 | Q13: =SUM(Q9,Q10) -> 207228.12 | R13: =SUM(R9,R10) -> 189583.98 | S13: =SUM(S9,S10) -> 86382.36
A15: Total - SALES OF GOODS - SALES OF GOODS | B15: Net Profit/(Loss) | C15: TAVERN | D15: =E15/$E$18 -> 0.94057753 | E15: =VLOOKUP(A15,[2]TAVERN!1:1048576,14,FALSE) -> 1045799 | F15: =G15+('[2]Catering Admin Allocation'!I16) -> -122967.71 | G15: =VLOOKUP(B15,[2]TAVERN!1:1048576,14,FALSE) -> 63838.976 | H15: -30195.97 | I15: 61759.88 | J15: 6299.86 | K15: 39440.408 | L15: -31429.05 | M15: 14639.97 | N15: -9676.12 | O15: 15234.45 | P15: 58308.91 | Q15: 23161.69 | R15: -2318.29 | S15: 39628.05
C16: Total Tavern, Kitchen and Functions | F16: =SUM(F15) -> -122967.71 | G16: =SUM(G15) -> 63838.976 | H16: =SUM(H15) -> -30195.97 | I16: =SUM(I15) -> 61759.88 | J16: =SUM(J15) -> 6299.86 | K16: =SUM(K15) -> 39440.408
C18: Total Catering | D18: =SUM(D3:D15) -> 1.3380785 | E18: =SUM(E13:E15) -> 1111869 | F18: =SUM(F13,F16) -> 204180.46 | G18: =SUM(G13,G16) -> 204180.46 | H18: =SUM(H16,H13) -> 13629.9 | I18: =SUM(I13:I15) -> 260603.7 | J18: =SUM(J13,J16) -> 28586.94 | K18: =SUM(K13:K15) -> 56720.113 | L18: =SUM(L13:L15) -> 61099.53 | M18: =SUM(M13:M15) -> 187906.15 | N18: =SUM(N13:N15) -> 141903.81 | O18: =SUM(O13:O15) -> 148296.25 | P18: =SUM(P13:P15) -> 427743.64 | Q18: =SUM(Q13:Q15) -> 230389.81 | R18: =SUM(R13:R15) -> 187265.69 | S18: =SUM(S13:S15) -> 126010.41
P19: Jobkeeper
C21: Catering Snapshot | F21: 2024 Budget | G21: 2023 Actual (Jan-Oct) | J21: 2023 Budget | K21: 2022 Actual | L21: 2021 Actual | M21: 2020 Actual | N21: 2019 Actual
B22: Total - SALES OF GOODS - SALES OF GOODS | C22: Revenue | F22: ='[2]BUSINESS SCHOOL'!N11+[2]CATALYST!N13+[2]DENTISTRY!N13+[2]NEDLANDS!N13+[2]FUNCTIONS!N12+[2]HACKETT!N13+[2]QUOBBA!N13+[2]TAVERN!N15 -> 1487768 | G22: 4220326 | J22: 4354350 | K22: 3720732 | L22: 4143927 | M22: 3366966 | N22: 6107752
B23: Total - SALES CATERING DISCOUNT - SALES CATERING DISCOUNT | C23: Discount | F23: =[2]TAVERN!N12 -> -94121.91 | G23: -245184 | J23: -10000 | K23: -155444 | L23: -175310 | M23: -148666 | N23: -477897
B24: Total - Cost Of Sales | C24: COGS | F24: =-SUM('[2]BUSINESS SCHOOL'!N21,[2]CATALYST!N23,[2]DENTISTRY!N23,[2]NEDLANDS!N23,[2]FUNCTIONS!N15,[2]HACKETT!N23,[2]QUOBBA!N23,[2]TAVERN!N19) -> -613887.9 | G24: -1467789 | J24: -1499041 | K24: -1300130 | L24: -1488438 | M24: -1233886 | N24: -2342286
F25: =F24/F22 -> -0.41262341 | G25: =G24/G22 -> -0.34779043
B26: Total - EMPLOYEE BENEFITS EXPENSE - EMPLOYEE BENEFITS EXPENSE | C26: Employee Expenditure | F26: =-SUM('[2]BUSINESS SCHOOL'!N51,[2]CATALYST!N56,[2]DENTISTRY!N55,[2]NEDLANDS!N55,[2]FUNCTIONS!N46,[2]HACKETT!N55,[2]KITCHEN!N39,[2]QUOBBA!N53,'[2] CATERING ADMIN'!N37,[2]TAVERN!N61) -> -1766591.7 | G26: -2058177 | J26: -2216050 | K26: -1980752 | L26: -2043200 | M26: -1180688 | N26: -2470216
F27: =F26/F22 -> -1.1874107 | G27: =G26/G22 -> -0.48768199
B28: Total - ADMINISTRATIVE EXPENSES - ADMINISTRATIVE EXPENSES | C28: Selling and Other Expenses | F28: =-SUM('[2]BUSINESS SCHOOL'!N43,[2]CATALYST!N48,[2]DENTISTRY!N47,[2]NEDLANDS!N45,[2]FUNCTIONS!N38,[2]KITCHEN!N31,[2]QUOBBA!N45,'[2] CATERING ADMIN'!N30,[2]TAVERN!N53,[2]HACKETT!N47) -> -353634.35 | G28: -507509 | J28: -664093 | K28: -512620 | L28: -647945 | M28: -622762 | N28: -902332
B29: Total - Other Income | C29: Other Income and expenses | F29: =SUM([2]NEDLANDS!N62,[2]FUNCTIONS!N61,[2]TAVERN!N77) -> 87855 | G29: 169042 | J29: 93056 | K29: 141313 | L29: 162380 | M29: 116613 | N29: 180833
C31: Net Profit | F31: =SUM(F22:F30) -> -1252614.4 | G31: =SUM(G22:G29) -> 110708.16 | J31: =SUM(J22:J29) -> 58222 | K31: =SUM(K22:K29) -> -86901 | L31: =SUM(L22:L29) -> -48586 | M31: =SUM(M22:M29) -> 297577 | N31: =SUM(N22:N29) -> 95854
C32: GP% | F32: =(F22+F24)/F22 -> 0.58737659 | G32: =(G22+G24)/G22 -> 0.65220957 | J32: =(J22+J24)/J22 -> 0.65573714 | K32: =(K22+K24)/K22 -> 0.65057145 | L32: =(L22+L24)/L22 -> 0.64081462 | M32: =(M22+M24)/M22 -> 0.63353179 | N32: =(N22+N24)/N22 -> 0.61650604
C33: Employee expenditure % | F33: =F26/F22 -> -1.1874107 | G33: =G26/G22 -> -0.48768199 | J33: =J26/J22 -> -0.50892785 | K33: =K26/K22 -> -0.53235546 | L33: =L26/L22 -> -0.49305888 | M33: =M26/M22 -> -0.35066823 | N33: =N26/N22 -> -0.40443947
C34: Net Profit % | F34: =F31/F22 -> -0.84194203 | G34: =G31/G22 -> 0.026232136 | J34: =J31/J22 -> 0.013370997 | K34: =K31/K22 -> -0.023355888 | L34: =L31/L22 -> -0.011724627 | M34: =M31/M22 -> 0.08838135 | N34: =N31/N22 -> 0.015693826
M36: Jobkeeper
F38: =F18-F31 -> 1456794.9

Sheet PRES
A1: Guild of Undergraduates
A2: Budget Profit and Loss
A3: FY 2025
A4: PRESIDENTIAL
A6: Financial Row | B6: 45658 | C6: 45689 | D6: 45717 | E6: 45748 | F6: 45778 | G6: 45809 | H6: 45839 | I6: 45870 | J6: 45901 | K6: 45931 | L6: 45962 | M6: 45992 | N6: Total
B7: Amount | C7: Amount | D7: Amount | E7: Amount | F7: Amount | G7: Amount | H7: Amount | I7: Amount | J7: Amount | K7: Amount | L7: Amount | M7: Amount | N7: Amount
A8: Gross Profit | B8: =0-0 -> 0 | C8: =0-0 -> 0 | D8: =0-0 -> 0 | E8: =0-0 -> 0 | F8: =0-0 -> 0 | G8: =0-0 -> 0 | H8: =0-0 -> 0 | I8: =0-0 -> 0 | ... N8: =0-0 -> 0
A9: Expenses
A10: ADMINISTRATIVE EXPENSES - ADMINISTRATIVE EXPENSES
A11: 305108 - Cleaning Contract | B11: 15 | C11: 15 | D11: 15 | E11: 15 | F11: 15 | G11: 15 | H11: 15 | I11: 15 | J11: 15 | K11: 15 | L11: 15 | M11: 15 | N11: =SUM(B11:M11) -> 180
A12: 305111 - Communication Expenses | B12: 20 | C12: 20 | D12: 20 | E12: 20 | F12: 20 | G12: 20 | H12: 20 | I12: 20 | J12: 20 | K12: 20 | L12: 20 | M12: 20 | N12: =SUM(B12:M12) -> 240
A13: 305114 - Computer Expenses | B13: 0 | C13: 0 | D13: 0 | E13: 0 | F13: 0 | G13: 0 | H13: 0 | I13: 0 | J13: 0 | K13: 0 | L13: 0 | M13: 0 | N13: =SUM(B13:M13) -> 0
A14: 305117 - Conferences | B14: 0 | C14: 0 | D14: 0 | E14: 0 | F14: 0 | G14: 2000 | H14: 2000 | I14: 0 | J14: 0 | K14: 0 | L14: 0 | M14: 0 | N14: =SUM(B14:M14) -> 4000
A15: 305132 - Utilities | B15: 25 | C15: 25 | D15: 25 | E15: 25 | F15: 25 | G15: 25 | H15: 25 | I15: 25 | J15: 25 | K15: 25 | L15: 25 | M15: 25 | N15: =SUM(B15:M15) -> 300
A16: 305147 - General Expenses | B16: 500 | C16: 0 | D16: 0 | E16: 0 | F16: 0 | G16: 0 | H16: 0 | I16: 0 | J16: 0 | K16: 0 | L16: 0 | M16: 0 | N16: =SUM(B16:M16) -> 500
A17: 305155 - Interior decoration | B17: 0 | C17: 0 | D17: 0 | E17: 0 | F17: 0 | G17: 0 | H17: 0 | I17: 0 | J17: 0 | K17: 0 | L17: 0 | M17: 0 | N17: =SUM(B17:M17) -> 0
A18: 305165 - Motor Vehicle Expenses | B18: 0 | C18: 0 | D18: 1000 | E18: 0 | F18: 0 | G18: 0 | H18: 0 | I18: 0 | J18: 0 | K18: 0 | L18: 0 | M18: 0 | N18: =SUM(B18:M18) -> 1000
A19: 305180 - Printing & Stationery | B19: 0 | C19: 0 | D19: 0 | E19: 0 | F19: 0 | G19: 0 | H19: 0 | I19: 0 | J19: 0 | K19: 0 | L19: 0 | M19: 0 | N19: =SUM(B19:M19) -> 0
A20: 305187 - Software Digital | B20: 20 | C20: 20 | D20: 20 | E20: 20 | F20: 20 | G20: 20 | H20: 20 | I20: 20 | J20: 20 | K20: 20 | L20: 20 | M20: 20 | N20: =SUM(B20:M20) -> 240
A21: 305207 - Special Projects | B21: 15000 | C21: 4000 | D21: 2000 | E21: 2000 | F21: 2000 | G21: 2000 | H21: 2000 | I21: 2000 | J21: 2000 | K21: 2000 | L21: 0 | M21: 0 | N21: =SUM(B21:M21) -> 35000
A22: 306004 - Depreciation - Computer Equipment | B22: 0 | C22: 0 | D22: 0 | E22: 0 | F22: 0 | G22: 0 | H22: 0 | I22: 0 | J22: 0 | K22: 0 | L22: 0 | M22: 0 | N22: =SUM(B22:M22) -> 0
A23: Total - ADMINISTRATIVE EXPENSES - ADMINISTRATIVE EXPENSES | B23: =SUM(B11:B22) -> 15580 | C23: =SUM(C11:C22) -> 4080 | D23: =SUM(D11:D22) -> 3080 | E23: =SUM(E11:E22) -> 2080 | F23: =SUM(F11:F22) -> 2080 | G23: =SUM(G11:G22) -> 4080 | H23: =SUM(H11:H22) -> 4080 | I23: =SUM(I11:I22) -> 2080 | ... N23: =SUM(N11:N22) -> 41460
A24: EMPLOYEE BENEFITS EXPENSE - EMPLOYEE BENEFITS EXPENSE
A25: 304001 - Salaries & Wages - Permanent Staff | B25: 3466.2272 | C25: 3648.6602 | D25: 3831.0932 | E25: 4013.5262 | F25: 4195.9592 | G25: 3648.6602 | H25: 4195.9592 | I25: 4013.5262 | J25: 3831.0932 | K25: 4195.9592 | L25: 3831.0932 | M25: 4013.5262 | N25: =SUM(B25:M25) -> 46885.284
A26: 304010 - Superannuation | B26: 436.61051 | C26: 459.59001 | D26: 482.56951 | E26: 505.54901 | F26: 528.52851 | G26: 459.59001 | H26: 528.52851 | I26: 505.54901 | J26: 482.56951 | K26: 528.52851 | L26: 482.56951 | M26: 505.54901 | N26: =SUM(B26:M26) -> 5905.7316
A27: 304013 - Workers Compensation Insurance | B27: 36.728596 | C27: 38.66168 | D27: 40.594764 | E27: 42.527848 | F27: 44.460932 | G27: 38.66168 | H27: 44.460932 | I27: 42.527848 | J27: 40.594764 | K27: 44.460932 | L27: 40.594764 | M27: 42.527848 | N27: =SUM(B27:M27) -> 496.80259
A28: 304016 - Annual Leave Provision | B28: 313.28515 | C28: 329.77384 | D28: 346.26254 | E28: 362.75123 | F28: 379.23992 | G28: 329.77384 | H28: 379.23992 | I28: 362.75123 | J28: 346.26254 | K28: 379.23992 | L28: 346.26254 | M28: 362.75123 | N28: =SUM(B28:M28) -> 4237.5939
A29: 304019 - Long Service Leave Provision | B29: 86.65568 | C29: 91.216505 | D29: 95.77733 | E29: 100.33816 | F29: 104.89898 | G29: 91.216505 | H29: 104.89898 | I29: 100.33816 | J29: 95.77733 | K29: 104.89898 | L29: 95.77733 | M29: 100.33816 | N29: =SUM(B29:M29) -> 1172.1321
A30: Total - EMPLOYEE BENEFITS EXPENSE - EMPLOYEE BENEFITS EXPENSE | B30: =SUM(B25:B29) -> 4339.5071 | C30: =SUM(C25:C29) -> 4567.9022 | D30: =SUM(D25:D29) -> 4796.2973 | E30: =SUM(E25:E29) -> 5024.6925 | F30: =SUM(F25:F29) -> 5253.0876 | G30: =SUM(G25:G29) -> 4567.9022 | H30: =SUM(H25:H29) -> 5253.0876 | I30: =SUM(I25:I29) -> 5024.6925 | ... N30: =SUM(N25:N29) -> 58697.544
A31: Total - Expenses | B31: =SUM(B23,B30) -> 19919.507 | C31: =SUM(C23,C30) -> 8647.9022 | D31: =SUM(D23,D30) -> 7876.2973 | E31: =SUM(E23,E30) -> 7104.6925 | F31: =SUM(F23,F30) -> 7333.0876 | G31: =SUM(G23,G30) -> 8647.9022 | H31: =SUM(H23,H30) -> 9333.0876 | I31: =SUM(I23,I30) -> 7104.6925 | ... N31: =SUM(N23,N30) -> 100157.54
A32: Operating Profit | B32: =B8-B31 -> -19919.507 | C32: =C8-C31 -> -8647.9022 | D32: =D8-D31 -> -7876.2973 | E32: =E8-E31 -> -7104.6925 | F32: =F8-F31 -> -7333.0876 | G32: =G8-G31 -> -8647.9022 | H32: =H8-H31 -> -9333.0876 | I32: =I8-I31 -> -7104.6925 | ... N32: =N8-N31 -> -100157.54
A33: Other Income
A34: OTHER INCOME - OTHER INCOME
A35: 103028 - Grant Income Received | B35: 0 | C35: 0 | D35: 0 | E35: 0 | F35: 0 | G35: 0 | H35: 0 | I35: 0 | J35: 0 | K35: 0 | L35: 0 | M35: 0 | N35: =SUM(B35:M35) -> 0
A36: Total - OTHER INCOME - OTHER INCOME | B36: =SUM(B35) -> 0 | C36: =SUM(C35) -> 0 | D36: =SUM(D35) -> 0 | E36: =SUM(E35) -> 0 | F36: =SUM(F35) -> 0 | G36: =SUM(G35) -> 0 | H36: =SUM(H35) -> 0 | I36: =SUM(I35) -> 0 | ... N36: =SUM(N35) -> 0
A37: Total - Other Income | B37: =SUM(B36) -> 0 | C37: =SUM(C36) -> 0 | D37: =SUM(D36) -> 0 | E37: =SUM(E36) -> 0 | F37: =SUM(F36) -> 0 | G37: =SUM(G36) -> 0 | H37: =SUM(H36) -> 0 | I37: =SUM(I36) -> 0 | ... N37: =SUM(N36) -> 0
A38: Net Profit/(Loss) | B38: =B32+B37+0 -> -19919.507 | C38: =C32+C37+0 -> -8647.9022 | D38: =D32+D37+0 -> -7876.2973 | E38: =E32+E37+0 -> -7104.6925 | F38: =F32+F37+0 -> -7333.0876 | G38: =G32+G37+0 -> -8647.9022 | H38: =H32+H37+0 -> -9333.0876 | I38: =I32+I37+0 -> -7104.6925 | ... N38: =N32+N37+0 -> -100157.54

Sheet GC
A1: Guild of Undergraduates
A2: Budget Profit and Loss
A3: FY 2025
A4: GUILD COUNCIL
A6: Financial Row | B6: 45658 | C6: 45689 | D6: 45717 | E6: 45748 | F6: 45778 | G6: 45809 | H6: 45839 | I6: 45870 | J6: 45901 | K6: 45931 | L6: 45962 | M6: 45992 | N6: Total
B7: Amount | C7: Amount | D7: Amount | E7: Amount | F7: Amount | G7: Amount | H7: Amount | I7: Amount | J7: Amount | K7: Amount | L7: Amount | M7: Amount | N7: Amount
A8: Gross Profit | B8: =0-0 -> 0 | C8: =0-0 -> 0 | D8: =0-0 -> 0 | E8: =0-0 -> 0 | F8: =0-0 -> 0 | G8: =0-0 -> 0 | H8: =0-0 -> 0 | I8: =0-0 -> 0 | ... N8: =0-0 -> 0
A9: Expenses
A10: ADMINISTRATIVE EXPENSES - ADMINISTRATIVE EXPENSES
A11: 305023 - Student Rep Induction conference | B11: 0 | C11: 0 | D11: 0 | E11: 0 | F11: 0 | G11: 1000 | H11: 0 | I11: 0 | J11: 0 | K11: 0 | L11: 0 | M11: 3000 | N11: =SUM(B11:M11) -> 4000
A12: 305044 - Special Projects-MCW | B12: 0 | C12: 0 | D12: 0 | E12: 0 | F12: 0 | G12: 0 | H12: 0 | I12: 0 | J12: 0 | K12: 0 | L12: 0 | M12: 9500 | N12: =SUM(B12:M12) -> 9500
A13: 305057 - Website | B13: 1700 | C13: 1700 | D13: 1700 | E13: 1700 | F13: 1700 | G13: 1700 | H13: 1700 | I13: 1700 | J13: 1700 | K13: 1700 | L13: 1700 | M13: 1700 | N13: =SUM(B13:M13) -> 20400
A14: 305063 - Handbooks | B14: 1000 | C14: 0 | D14: 0 | E14: 0 | F14: 0 | G14: 0 | H14: 0 | I14: 0 | J14: 0 | K14: 0 | L14: 0 | M14: 0 | N14: =SUM(B14:M14) -> 1000
A15: 305080 - Activities and Functions | B15: 1000 | C15: 0 | D15: 0 | E15: 0 | F15: 0 | G15: 0 | H15: 0 | I15: 0 | J15: 0 | K15: 0 | L15: 0 | M15: 0 | N15: =SUM(B15:M15) -> 1000
A16: 305083 - Advertising & Promotion | B16: 0 | C16: 1000 | D16: 0 | E16: 0 | F16: 0 | G16: 0 | H16: 0 | I16: 0 | J16: 0 | K16: 0 | L16: 0 | M16: 0 | N16: =SUM(B16:M16) -> 1000
A17: 305096 - Bad Debt Provision | B17: 0 | C17: 0 | D17: 0 | E17: 0 | F17: 0 | G17: 0 | H17: 0 | I17: 0 | J17: 0 | K17: 0 | L17: 0 | M17: 5000 | N17: =SUM(B17:M17) -> 5000
A18: 305108 - Cleaning Contract | B18: 2500 | C18: 2500 | D18: 2500 | E18: 2500 | F18: 2500 | G18: 2500 | H18: 2500 | I18: 2500 | J18: 2500 | K18: 2500 | L18: 2500 | M18: 2500 | N18: =SUM(B18:M18) -> 30000
A19: 305114 - Computer Expenses | B19: 0 | C19: 0 | D19: 0 | E19: 0 | F19: 0 | G19: 0 | H19: 0 | I19: 0 | J19: 0 | K19: 0 | L19: 0 | M19: 0 | N19: =SUM(B19:M19) -> 0
A20: 305117 - Conferences | B20: 1500 | C20: 0 | D20: 0 | E20: 0 | F20: 0 | G20: 0 | H20: 1200 | I20: 0 | J20: 0 | K20: 0 | L20: 15000 | M20: 0 | N20: =SUM(B20:M20) -> 17700
A21: 305129 - Election & Referenda Expenses | B21: 0 | C21: 0 | D21: 0 | E21: 0 | F21: 0 | G21: 0 | H21: 0 | I21: 0 | J21: 0 | K21: 0 | L21: 0 | M21: 62000 | N21: =SUM(B21:M21) -> 62000
A22: 305132 - Utilities | B22: 2000 | C22: 2000 | D22: 2000 | E22: 2000 | F22: 2000 | G22: 2000 | H22: 2000 | I22: 2000 | J22: 2000 | K22: 2000 | L22: 2000 | M22: 2000 | N22: =SUM(B22:M22) -> 24000
... A41: 306005 - Depreciation - Property | B41: 2515.44 | C41: 2515.44 | D41: 2515.44 | E41: 2515.44 | F41: 2515.44 | G41: 2515.44 | H41: 2515.44 | I41: 2515.44 | J41: 2515.44 | K41: 2515.44 | L41: 2515.44 | M41: 2515.44 | N41: =SUM(B41:M41) -> 30185.28
A42: Total - ADMINISTRATIVE EXPENSES - ADMINISTRATIVE EXPENSES | B42: =SUM(B11:B41) -> 131369.13 | C42: =SUM(C11:C41) -> 21669.13 | D42: =SUM(D11:D41) -> 21809.13 | E42: =SUM(E11:E41) -> 20669.13 | F42: =SUM(F11:F41) -> 26709.13 | G42: =SUM(G11:G41) -> 21669.13 | H42: =SUM(H11:H41) -> 21869.13 | I42: =SUM(I11:I41) -> 20669.13 | ... N42: =SUM(N11:N41) -> 485659.56
A43: Total - Expenses | B43: =SUM(B42) -> 131369.13 | C43: =SUM(C42) -> 21669.13 | D43: =SUM(D42) -> 21809.13 | E43: =SUM(E42) -> 20669.13 | F43: =SUM(F42) -> 26709.13 | G43: =SUM(G42) -> 21669.13 | H43: =SUM(H42) -> 21869.13 | I43: =SUM(I42) -> 20669.13 | ... N43: =SUM(N42) -> 485659.56
A44: EMPLOYEE BENEFITS EXPENSE - EMPLOYEE BENEFITS EXPENSE
A45: 304001 - Salaries & Wages - Permanent Staff | B45: 1853.7078 | C45: 1951.2714 | D45: 2048.8349 | E45: 2146.3985 | F45: 2243.9621 | G45: 1951.2714 | H45: 2243.9621 | I45: 2146.3985 | J45: 2048.8349 | K45: 2243.9621 | L45: 2048.8349 | M45: 2504.3834 | N45: =SUM(B45:M45) -> 25431.822
A46: 304010 - Superannuation | B46: 233.49546 | C46: 245.78469 | D46: 258.07392 | E46: 270.36316 | F46: 282.65239 | G46: 245.78469 | H46: 282.65239 | I46: 270.36316 | J46: 258.07392 | K46: 282.65239 | L46: 258.07392 | M46: 329.43067 | N46: =SUM(B46:M46) -> 3217.4008
A47: 304013 - Workers Compensation Insurance | B47: 19.64213 | C47: 20.675926 | D47: 21.709723 | E47: 22.743519 | F47: 23.777315 | G47: 20.675926 | H47: 23.777315 | I47: 22.743519 | J47: 21.709723 | K47: 23.777315 | L47: 21.709723 | M47: 22.743519 | N47: =SUM(B47:M47) -> 265.68565
A48: 304016 - Annual Leave Provision | B48: 227.06364 | C48: 176.36015 | D48: 185.17816 | E48: 193.99616 | F48: 202.81417 | G48: 176.36015 | H48: 202.81417 | I48: 193.99616 | J48: 185.17816 | K48: 202.81417 | L48: 185.17816 | M48: 193.99616 | N48: =SUM(B48:M48) -> 2325.7494
A49: 304019 - Long Service Leave Provision | B49: 72.608195 | C49: 48.781784 | D49: 51.220873 | E49: 53.659962 | F49: 56.099052 | G49: 48.781784 | H49: 56.099052 | I49: 53.659962 | J49: 51.220873 | K49: 56.099052 | L49: 51.220873 | M49: 53.659962 | N49: =SUM(B49:M49) -> 653.11143
